BEGIN:VCALENDAR
VERSION:2.0
PRODID:-//Heilpraktiker Consulting - ECPv6.15.11//NONSGML v1.0//EN
CALSCALE:GREGORIAN
METHOD:PUBLISH
X-ORIGINAL-URL:https://heilpraktiker-consulting.de
X-WR-CALDESC:Veranstaltungen für Heilpraktiker Consulting
REFRESH-INTERVAL;VALUE=DURATION:PT1H
X-Robots-Tag:noindex
X-PUBLISHED-TTL:PT1H
BEGIN:VTIMEZONE
TZID:Europe/Helsinki
BEGIN:DAYLIGHT
TZOFFSETFROM:+0200
TZOFFSETTO:+0300
TZNAME:EEST
DTSTART:20250330T010000
END:DAYLIGHT
BEGIN:STANDARD
TZOFFSETFROM:+0300
TZOFFSETTO:+0200
TZNAME:EET
DTSTART:20251026T010000
END:STANDARD
BEGIN:DAYLIGHT
TZOFFSETFROM:+0200
TZOFFSETTO:+0300
TZNAME:EEST
DTSTART:20260329T010000
END:DAYLIGHT
BEGIN:STANDARD
TZOFFSETFROM:+0300
TZOFFSETTO:+0200
TZNAME:EET
DTSTART:20261025T010000
END:STANDARD
BEGIN:DAYLIGHT
TZOFFSETFROM:+0200
TZOFFSETTO:+0300
TZNAME:EEST
DTSTART:20270328T010000
END:DAYLIGHT
BEGIN:STANDARD
TZOFFSETFROM:+0300
TZOFFSETTO:+0200
TZNAME:EET
DTSTART:20271031T010000
END:STANDARD
END:VTIMEZONE
BEGIN:VEVENT
DTSTART;TZID=Europe/Helsinki:20260318T190000
DTEND;TZID=Europe/Helsinki:20260318T220000
DTSTAMP:20260419T165953
CREATED:20260109T125508Z
LAST-MODIFIED:20260109T125717Z
UID:18543-1773860400-1773871200@heilpraktiker-consulting.de
SUMMARY:Kyberg Vital: Qualitätszirkel in Frankfurt - Der Darm - Das Tor zur Gesundheit
DESCRIPTION:Wie Mikrobiom\, Schleimhaut & Entzündung unsere Gesundheit steuern\nDer Darm ist ein zentrales Steuerorgan für die körperliche und mentale Gesundheit. Im  Vortrag von Frau Detzel wird gezeigt\, wie der Darm als „Weichensteller“ über Mikrobiom\,  Schleimhautintegrität und immunologische Prozesse maßgeblich Entzündungsprozesse und damit zahlreiche gesundheitliche Abläufe beeinﬂ usst. Ein Schwerpunkt liegt auf der  Darm-Hirn-Achse\, deren Bedeutung für Stimmung\, Stressregulation und neurologische Funktionen zunehmend erforscht wird. Darüber hinaus wird der Zusammenhang zwischen  Darm und Lebergesundheit ebenso beleuchtet wie die Bedeutung der Darmfunktion im  Kontext von Longevity und gesundem Altern. \nDer Vortrag vermittelt anschaulich\, kompakt und wissenschaftlich fundiert\, warum ein  gesunder Darm – mit balancierter Mikrobiota und stabiler Barrierefunktion – wesentlich zur  ganzheitlichen Gesundheit beiträgt. \nReferentin: Dr. rer. nat. Michaela E. Detzel \n  \nSind Sie interessiert?\n\nDa die Teilnehmerzahl begrenzt ist\, bitten wir Sie um eine rechtzeitige Anmeldung bei Kyberg Vital\nFrau Carolin Wagner ist Ihre Ansprechpartnerin für Ihre Fragen und Anmeldung:\n\nTelefon: +49 172 14 05 482 oder eMail: carolin.wagner@kyberg.de
URL:https://heilpraktiker-consulting.de/termin/kyberg-vital-qualitaetszirkel-in-frankfurt-darm
LOCATION:MERCURE Hotel Frankfurt Eschborn-Ost\, Helfmann-Park 6\, Eschborn\, 65760\, Deutschland
ORGANIZER;CN="Kyberg Vital":MAILTO:carolin.wagner@kyberg.de
END:VEVENT
END:VCALENDAR