BEGIN:VCALENDAR
VERSION:2.0
PRODID:-//Heilpraktiker Consulting - ECPv6.15.11//NONSGML v1.0//EN
CALSCALE:GREGORIAN
METHOD:PUBLISH
X-ORIGINAL-URL:https://heilpraktiker-consulting.de
X-WR-CALDESC:Veranstaltungen für Heilpraktiker Consulting
REFRESH-INTERVAL;VALUE=DURATION:PT1H
X-Robots-Tag:noindex
X-PUBLISHED-TTL:PT1H
BEGIN:VTIMEZONE
TZID:Europe/Helsinki
BEGIN:DAYLIGHT
TZOFFSETFROM:+0200
TZOFFSETTO:+0300
TZNAME:EEST
DTSTART:20240331T010000
END:DAYLIGHT
BEGIN:STANDARD
TZOFFSETFROM:+0300
TZOFFSETTO:+0200
TZNAME:EET
DTSTART:20241027T010000
END:STANDARD
BEGIN:DAYLIGHT
TZOFFSETFROM:+0200
TZOFFSETTO:+0300
TZNAME:EEST
DTSTART:20250330T010000
END:DAYLIGHT
BEGIN:STANDARD
TZOFFSETFROM:+0300
TZOFFSETTO:+0200
TZNAME:EET
DTSTART:20251026T010000
END:STANDARD
BEGIN:DAYLIGHT
TZOFFSETFROM:+0200
TZOFFSETTO:+0300
TZNAME:EEST
DTSTART:20260329T010000
END:DAYLIGHT
BEGIN:STANDARD
TZOFFSETFROM:+0300
TZOFFSETTO:+0200
TZNAME:EET
DTSTART:20261025T010000
END:STANDARD
END:VTIMEZONE
BEGIN:VEVENT
DTSTART;TZID=Europe/Helsinki:20250901T180000
DTEND;TZID=Europe/Helsinki:20250901T213000
DTSTAMP:20260420T001454
CREATED:20250819T095338Z
LAST-MODIFIED:20250819T095634Z
UID:18461-1756749600-1756762200@heilpraktiker-consulting.de
SUMMARY:Fachausbildung Ganzheitliche Dermatologie
DESCRIPTION:4-teilig | Online-Live | Start: 1. September 2025\nJe 18:00 – 21:30 Uhr | Aufzeichnung verfügbar \nPreis: 992\,00 € zzgl. 19 % MwSt. für alle vier Online-Seminare \nGanzheitliche Dermatologie bedeutet: die Haut heilen – von innen nach außen\nHauterkrankungen sind mehr als nur ein kosmetisches Problem – sie können das Selbstwertgefühl zerstören\, Beziehungen belasten und den Alltag beschweren. Hier kommt die ganzheitliche Dermatologie ins Spiel. Viele Patienten haben jahrelang Therapien ausprobiert\, ohne echte Besserung. Genau hier setzt dieser Kurs an: Sie lernen\, Hautleiden ganzheitlich zu verstehen und ursächlich zu behandeln. \nIn diesem Kurs erfahren Sie: \n\ndie wahren Hintergründe chronischer Hautprobleme – von Darmgesundheit bis Psyche\nwie Ernährung\, Mikronährstoffe und Umweltfaktoren die Haut beeinflussen\neffektive ganzheitliche Methoden\, die sich in der Praxis bewährt haben\nspezifisches Fachwissen zu Akne\, Rosazea\, Neurodermitis\, Psoriasis u. v. m.\ndirekt umsetzbare\, praxiserprobte Therapiekonzepte\nzusätzlich: „TCM to go für die Haut“\, Bioresonanz\, Lichttherapie\n\n\nFür Therapeuten\, die ihre Praxis im boomenden Bereich ganzheitliche Dermatologie ausbauen wollen \nWeitere Details finden Sie auch auf der Seite der Remiderm-Akademie \n  \n 
URL:https://heilpraktiker-consulting.de/termin/ganzheitliche-dermatologie-1
CATEGORIES:Interaktives Online-Seminar
ORGANIZER;CN="Remiderm-Akademie":MAILTO:info@remiderm.de
END:VEVENT
BEGIN:VEVENT
DTSTART;TZID=Europe/Helsinki:20250901T180000
DTEND;TZID=Europe/Helsinki:20250901T213000
DTSTAMP:20260420T001454
CREATED:20250819T133906Z
LAST-MODIFIED:20250819T141136Z
UID:18495-1756749600-1756762200@heilpraktiker-consulting.de
SUMMARY:Bundle: Kompaktausbildung Dermatologie und Ästhetik
DESCRIPTION:11-teilig | Online-Live | Start: 1. September 2025\nJe 18:00 – 21:30 Uhr | Aufzeichnung verfügbar \n+ 4 Praxistage in Weinheim freitags und samstags im Oktober und November \nPreis: 5.130\,00 € zzgl. 19 % MwSt. für alle Online- und Praxis-Seminare bei Komplettbuchung und Zahlung in einer Rate \nKompaktkurs „Ganzheitliche Dermatologie“ & „Bioregenerative Ästhetik“\nZiel dieser Kompaktausbildung Dermatologie und Ästhetik ist es\, nicht nur die minimalinvasiven Techniken der dermatologischen Ästhetik zu lehren\, sondern auch die wertvollen Synergien der Naturheilkunde zu integrieren. So werden naturheilkundliche Methoden mit minimalinvasiven ästhetischen Techniken verbunden – gelebtes Wissen „aus der Praxis für die Praxis“. \n💡 Ihr Vorteil: Alles in einem kompakten\, durchdachten Kurs – statt mühsam Inhalte aus Einzelkursen zusammenzusuchen. \nHinweis: Teilnahme an Hands-on-Trainings ist aus rechtlichen Gründen nur mit Heilkundeerlaubnis möglich. \n📞 Fragen? Kontaktieren Sie uns\, wir beraten Sie gern persönlich. \n\nFür Therapeuten\, die ihre Praxis im boomenden Bereich bioregenerativer minimal-invasiver Methoden etablieren/ausbauen möchten.\nTermine Theorie: 1.9.\, 8.9.\, 15.9.\, 18.9.\, 22.9.\, 6.10.\, 13.10.\, 20.10.\, 30.10.\, 3.11.\, 10.11.2025 – jeweils 18 Uhr\, 3\,5 Stunden\nInklusive Skript & Aufzeichnung auf Wunsch \nTermine Praxis: 24.+25. Oktober + 14. + 15. November 2025\, erster Tag 10-17 Uhr\, zweiter Tag 9-16 Uhr \n  \nWeitere Details finden Sie auch auf der Seite der Remiderm-Akademie \n  \n 
URL:https://heilpraktiker-consulting.de/termin/dermatologie-aesthetik-1
CATEGORIES:Hybrides Seminar
ORGANIZER;CN="Remiderm-Akademie":MAILTO:info@remiderm.de
END:VEVENT
BEGIN:VEVENT
DTSTART;TZID=Europe/Helsinki:20250905T130000
DTEND;TZID=Europe/Helsinki:20250905T160000
DTSTAMP:20260420T001454
CREATED:20250731T162450Z
LAST-MODIFIED:20250814T152535Z
UID:18385-1757077200-1757088000@heilpraktiker-consulting.de
SUMMARY:Hands-on-Schulung "Behandlung mit der Kollagenstimulanz Sculptra" in Hamburg
DESCRIPTION:Indikationen: Gesicht\, Hals\, Dekolleté \nPreis: 690\,00 € zzgl. 19 % MwSt.\, inkl. 1 Vial Material zur Behandlung eines Probanden (Kleingruppen-Seminar) \nProfitieren Sie von meiner Erfahrung mit Poly-L-Milchsäure seit 2004. Von 2004 bis 2012 betreute ich das Produkt bei der Vetriebsfirma Sanofi in den Beriechen Vertrieb und Marketing. Seit 2011\, also seit Erlangung der Heilpraktiker-Zulassung\, führe ich Hands-on-Workshops für Sculptra (Poly-L-Milchsäure) durch. Seit 2012 kommt es regelmäßig in meiner Praxis zum Einsatz. \nMein jahrelanges und umfangreiches Wissen bzgl. Produkt\, Handhabung und dessen Marketing fließt in die Schulung ein. \nEs erwartet Sie ein intensiver Theorie-Teil (ca. 2\,5-3 Stunden) und ein anschauliches Hands-on-Training\, zu dem Sie Ihren eigenen Probanden mitbringen können. \nZudem: \n– anschaulich ausgearbeitetes\, gebundenes Hand-out \n– Zertifikat \n– Snack-Imbiss \nReferentin: Dr. rer. nat. Michaela E. Detzel \nAnmeldung bitte per E-Mail an info@heilpraktiker-consulting.de
URL:https://heilpraktiker-consulting.de/termin/hands-on-schulung-sculptra-25-09-05-2
LOCATION:Hamburg\, Hamburg\, Germany
ORGANIZER;CN="Dr. rer. nat. Michaela E. Detzel":MAILTO:info@heilpraktiker-consulting.de
END:VEVENT
BEGIN:VEVENT
DTSTART;TZID=Europe/Helsinki:20250917T140000
DTEND;TZID=Europe/Helsinki:20250917T170000
DTSTAMP:20260420T001454
CREATED:20250731T161129Z
LAST-MODIFIED:20250814T152652Z
UID:18378-1758117600-1758128400@heilpraktiker-consulting.de
SUMMARY:Hands-on-Schulung "Behandlung mit der Kollagenstimulanz Sculptra" in Eschborn
DESCRIPTION:Indikationen: Gesicht\, Hals\, Dekolleté \nPreis: 690\,00 € zzgl. 19 % MwSt.\, inkl. 1 Vial Material zur Behandlung eines Porbanden (Kleingruppen-Seminar) \nProfitieren Sie von meiner Erfahrung mit Poly-L-Milchsäure seit 2004. Von 2004 bis 2012 betreute ich das Produkt bei der Vetriebsfirma Sanofi in den Beriechen Vertrieb und Marketing. Seit 2011\, also seit Erlangung der Heilpraktiker-Zulassung\, führe ich Hands-on-Workshops für Sculptra (Poly-L-Milchsäure) durch. Seit 2012 kommt es regelmäßig in meiner Praxis zum Einsatz. \nMein jahrelanges und umfangreiches Wissen bzgl. Produkt\, Handhabung und dessen Marketing fließt in die Schulung ein. \nEs erwartet Sie ein intensiver Theorie-Teil (ca. 2\,5-3 Stunden) und ein anschauliches Hands-on-Training\, zu dem Sie Ihren eigenen Probanden mitbringen können. \nZudem: \n– anschaulich ausgearbeitetes\, gebundenes Hand-out \n– Zertifikat \n– Snack-Imbiss \nReferentin: Dr. rer. nat. Michaela E. Detzel \nAnmeldung bitte per E-Mail an info@heilpraktiker-consulting.de
URL:https://heilpraktiker-consulting.de/termin/hands-on-schulung-sculptra-25-09-05
LOCATION:Heilpraktiker Consulting\, Im Trollinger 3\, Eschborn\, 65760\, Germany
ORGANIZER;CN="Dr. rer. nat. Michaela E. Detzel":MAILTO:info@heilpraktiker-consulting.de
END:VEVENT
BEGIN:VEVENT
DTSTART;TZID=Europe/Helsinki:20250922T180000
DTEND;TZID=Europe/Helsinki:20250922T213000
DTSTAMP:20260420T001454
CREATED:20250819T131337Z
LAST-MODIFIED:20250821T083006Z
UID:18490-1758564000-1758576600@heilpraktiker-consulting.de
SUMMARY:Fachausbildung Bioregenerative Ästhetik - Theorie und Praxis
DESCRIPTION:7-teilig | Online-Live | Start: 22. September 2025\nJe 18:00 – 21:30 Uhr | Aufzeichnung verfügbar \n+ 4 Praxistage in Weinheim freitags und samstags im Oktober und November \nPreis: 4.408\,00 € zzgl. 19 % MwSt. für alle Online- und Praxis-Seminare \nKompaktkurs „Bioregenerative Ästhetik“\nDer Kompaktkurs „Bioregenerative Ästhetik“ vermittelt Ihnen Ästhetik von Grund auf – strukturiert\, effizient\, praxisnah.\nSchluss mit Kurs-Hopping! Dieser Kompaktkurs vermittelt Ihnen gebündeltes\, aufeinander abgestimmtes Wissen für einen sicheren\, selbstständigen Einstieg in die ästhetische Medizin. Sie erhalten fundierte Theorie\, praxiserprobte Techniken und Marktkenntnisse – in klarer Struktur\, mit maximaler Effizienz und alles aus einer Hand. \nIhre Schwerpunkte: \n\nGrundlagen & Basisschulung Ästhetik für sicheres Arbeiten\nDer Alterungsprozess\n3-Derma-Konzept als Behandlungsleitfaden\nDiv. Peelingkonzepte & Microneedling\nMesotherapie\, div. Skinbooster\nHyaluronsäure-Filler\, natürliche Lippenmodellage\nKollagenstimulanzien\, Fadenlifting\, Lipolyse\nKomplikationsmanagement & Patientensicherheit\nMaterial- & Gerätekenntnis für den erfolgreichen Praxisstart\nRechtliche Richtlinien in der ästhetischen Medizin\nMarketingtipps u.v.m.\n\nHinweis: Teilnahme an Hands-on-Trainings ist aus rechtlichen Gründen nur mit Heilkundeerlaubnis möglich. \n  \n📞 Fragen? Kontaktieren Sie uns\, wir beraten Sie gern persönlich. \n\nFür Therapeuten\, die ihre Praxis im boomenden Bereich bioregenerativer minimal-invasiver Methoden etablieren/ausbauen möchten.\nTermine Theorie: 22.9.\, 6.10.\, 13.10.\, 20.10.\, 30.10.\, 3.11.\, 10.11.2025 – jeweils 18 Uhr\, 3\,5 Stunden\nInklusive Skript & Aufzeichnung auf Wunsch \nTermine Praxis: 24.+25. Oktober + 14. + 15. November 2025\, erster Tag 10-17 Uhr\, zweiter Tag 9-16 Uhr \nKosten Kompaktkurs: 4.408\,-€ zzgl. Steuer \nFlexibel buchbar: Theorie- und Praxiskurse können nach Rücksprache auch unabhängig voneinander gebucht werden. Bitte kontaktieren Sie uns hierzu.\n\n \nWeitere Details finden Sie auch auf der Seite der Remiderm-Akademie \n  \n 
URL:https://heilpraktiker-consulting.de/termin/bioregenerative-aesthetik-1
CATEGORIES:Hybrides Seminar
ORGANIZER;CN="Remiderm-Akademie":MAILTO:info@remiderm.de
END:VEVENT
END:VCALENDAR