BEGIN:VCALENDAR
VERSION:2.0
PRODID:-//Heilpraktiker Consulting - ECPv6.15.11//NONSGML v1.0//EN
CALSCALE:GREGORIAN
METHOD:PUBLISH
X-ORIGINAL-URL:https://heilpraktiker-consulting.de
X-WR-CALDESC:Veranstaltungen für Heilpraktiker Consulting
REFRESH-INTERVAL;VALUE=DURATION:PT1H
X-Robots-Tag:noindex
X-PUBLISHED-TTL:PT1H
BEGIN:VTIMEZONE
TZID:Europe/Helsinki
BEGIN:DAYLIGHT
TZOFFSETFROM:+0200
TZOFFSETTO:+0300
TZNAME:EEST
DTSTART:20250330T010000
END:DAYLIGHT
BEGIN:STANDARD
TZOFFSETFROM:+0300
TZOFFSETTO:+0200
TZNAME:EET
DTSTART:20251026T010000
END:STANDARD
BEGIN:DAYLIGHT
TZOFFSETFROM:+0200
TZOFFSETTO:+0300
TZNAME:EEST
DTSTART:20260329T010000
END:DAYLIGHT
BEGIN:STANDARD
TZOFFSETFROM:+0300
TZOFFSETTO:+0200
TZNAME:EET
DTSTART:20261025T010000
END:STANDARD
BEGIN:DAYLIGHT
TZOFFSETFROM:+0200
TZOFFSETTO:+0300
TZNAME:EEST
DTSTART:20270328T010000
END:DAYLIGHT
BEGIN:STANDARD
TZOFFSETFROM:+0300
TZOFFSETTO:+0200
TZNAME:EET
DTSTART:20271031T010000
END:STANDARD
END:VTIMEZONE
BEGIN:VEVENT
DTSTART;TZID=Europe/Helsinki:20260302T180000
DTEND;TZID=Europe/Helsinki:20260302T211500
DTSTAMP:20260419T152243
CREATED:20260110T164155Z
LAST-MODIFIED:20260114T125217Z
UID:18552-1772474400-1772486100@heilpraktiker-consulting.de
SUMMARY:Bundle: Kompaktausbildung Dermatologie und Ästhetik
DESCRIPTION:13-teilig | Online-Live | Start: 2. März 2026\nJe 18:00 – 21:15 Uhr | Aufzeichnung verfügbar \n+ 4 Praxistage im Mai und Juni\, freitags von 10:00 bis 18:00 Uhr und samstags 9:00 bis 16:00 Uhr \nPreis: 7.015\,00 € zzgl. 19 % MwSt. für alle Online- und Praxis-Seminare bei Komplettbuchung und Zahlung in einer Rate \nKompaktkurs „Ganzheitliche Dermatologie“ & „Bioregenerative Ästhetik“\nZiel dieser Kompaktausbildung Dermatologie und Ästhetik ist es\, nicht nur die minimalinvasiven Techniken der dermatologischen Ästhetik zu lehren\, sondern auch die wertvollen Synergien der Naturheilkunde zu integrieren. So werden naturheilkundliche Methoden mit minimalinvasiven ästhetischen Techniken verbunden – gelebtes Wissen „aus der Praxis für die Praxis“. \n💡 Ihr Vorteil: Alles in einem kompakten\, durchdachten Kurs – statt mühsam Inhalte aus Einzelkursen zusammenzusuchen. \nHinweis: Teilnahme an Hands-on-Trainings ist aus rechtlichen Gründen nur mit Heilkundeerlaubnis möglich. \n📞 Fragen? Kontaktieren Sie uns\, wir beraten Sie gern persönlich. \n\nFür Therapeuten\, die ihre Praxis im boomenden Bereich bioregenerativer minimal-invasiver Methoden etablieren/ausbauen möchten.\nTermine Theorie: 02.03.\, 09.03.\, 16.03.\, 23.03.\, 25.03.\, 13.04.\, 20.04.\, 27.04.\, 11.05.\, 18.05.\, 08.06.\, 15.06.\, 25.06.2026 – jeweils 18 Uhr\, 3\,25 Stunden\nInklusive Skript & Aufzeichnung auf Wunsch \nTermine Praxis: 29. + 30. Mai 2026 + 29. + 20. Juni 2026 \nPreis: 6.664\,25 € zzgl. 19 % MwSt. für alle Online- und Praxis-Seminare bei Komplettbuchung und Zahlung in einer Rate im Voraus \nRatenzahlung nach Vereinbarung \nWeitere Details finden Sie auch auf der Seite der Remiderm-Akademie \n  \n 
URL:https://heilpraktiker-consulting.de/termin/dermatologie-aesthetik-2
CATEGORIES:Hybrides Seminar
ORGANIZER;CN="Remiderm-Akademie":MAILTO:info@remiderm.de
END:VEVENT
BEGIN:VEVENT
DTSTART;TZID=Europe/Helsinki:20260302T180000
DTEND;TZID=Europe/Helsinki:20260302T213000
DTSTAMP:20260419T152243
CREATED:20260110T165122Z
LAST-MODIFIED:20260114T124815Z
UID:18557-1772474400-1772487000@heilpraktiker-consulting.de
SUMMARY:Fachausbildung Ganzheitliche Dermatologie
DESCRIPTION:5-teilig | Online-Live | Start: 2. März 2026\nJe 18:00 – 21:15 Uhr | Aufzeichnung verfügbar \nPreis: 1.475\,00 € zzgl. 19 % MwSt. für alle fünf Online-Seminare \nGanzheitliche Dermatologie bedeutet: die Haut heilen – von innen nach außen\nHauterkrankungen sind mehr als nur ein kosmetisches Problem – sie können das Selbstwertgefühl zerstören\, Beziehungen belasten und den Alltag beschweren. Hier kommt die ganzheitliche Dermatologie ins Spiel. Viele Patienten haben jahrelang Therapien ausprobiert\, ohne echte Besserung. Genau hier setzt dieser Kurs an: Sie lernen\, Hautleiden ganzheitlich zu verstehen und ursächlich zu behandeln. \nIn diesem Kurs erfahren Sie: \n\ndie wahren Hintergründe chronischer Hautprobleme – von Darmgesundheit bis Psyche\nwie Ernährung\, Mikronährstoffe und Umweltfaktoren die Haut beeinflussen\neffektive ganzheitliche Methoden\, die sich in der Praxis bewährt haben\nspezifisches Fachwissen zu Akne\, Rosazea\, Neurodermitis\, Psoriasis u. v. m.\ndirekt umsetzbare\, praxiserprobte Therapiekonzepte\nzusätzlich: „TCM to go für die Haut“\, Bioresonanz\, Lichttherapie\n\n\nFür Therapeuten\, die ihre Praxis im boomenden Bereich ganzheitliche Dermatologie ausbauen wollen \nTermine Theorie: 02.03.\, 09.03.\, 16.03.\, 23.03.\, 25.03.2026 – jeweils 18 Uhr\, 3\,25 Stunden\nInklusive Skript & Aufzeichnung auf Wunsch \nPreis: 1.401\,25 € zzgl. 19 % MwSt. für alle fünf Online-Seminare bei Zahlung in einer Summe im Voraus \nRatenzahlung nach Vereinbarung \nWeitere Details finden Sie auch auf der Seite der Remiderm-Akademie \n  \n 
URL:https://heilpraktiker-consulting.de/termin/ganzheitliche-dermatologie-2
CATEGORIES:Interaktives Online-Seminar
ORGANIZER;CN="Remiderm-Akademie":MAILTO:info@remiderm.de
END:VEVENT
BEGIN:VEVENT
DTSTART;TZID=Europe/Helsinki:20260318T190000
DTEND;TZID=Europe/Helsinki:20260318T220000
DTSTAMP:20260419T152243
CREATED:20260109T125508Z
LAST-MODIFIED:20260109T125717Z
UID:18543-1773860400-1773871200@heilpraktiker-consulting.de
SUMMARY:Kyberg Vital: Qualitätszirkel in Frankfurt - Der Darm - Das Tor zur Gesundheit
DESCRIPTION:Wie Mikrobiom\, Schleimhaut & Entzündung unsere Gesundheit steuern\nDer Darm ist ein zentrales Steuerorgan für die körperliche und mentale Gesundheit. Im  Vortrag von Frau Detzel wird gezeigt\, wie der Darm als „Weichensteller“ über Mikrobiom\,  Schleimhautintegrität und immunologische Prozesse maßgeblich Entzündungsprozesse und damit zahlreiche gesundheitliche Abläufe beeinﬂ usst. Ein Schwerpunkt liegt auf der  Darm-Hirn-Achse\, deren Bedeutung für Stimmung\, Stressregulation und neurologische Funktionen zunehmend erforscht wird. Darüber hinaus wird der Zusammenhang zwischen  Darm und Lebergesundheit ebenso beleuchtet wie die Bedeutung der Darmfunktion im  Kontext von Longevity und gesundem Altern. \nDer Vortrag vermittelt anschaulich\, kompakt und wissenschaftlich fundiert\, warum ein  gesunder Darm – mit balancierter Mikrobiota und stabiler Barrierefunktion – wesentlich zur  ganzheitlichen Gesundheit beiträgt. \nReferentin: Dr. rer. nat. Michaela E. Detzel \n  \nSind Sie interessiert?\n\nDa die Teilnehmerzahl begrenzt ist\, bitten wir Sie um eine rechtzeitige Anmeldung bei Kyberg Vital\nFrau Carolin Wagner ist Ihre Ansprechpartnerin für Ihre Fragen und Anmeldung:\n\nTelefon: +49 172 14 05 482 oder eMail: carolin.wagner@kyberg.de
URL:https://heilpraktiker-consulting.de/termin/kyberg-vital-qualitaetszirkel-in-frankfurt-darm
LOCATION:MERCURE Hotel Frankfurt Eschborn-Ost\, Helfmann-Park 6\, Eschborn\, 65760\, Deutschland
ORGANIZER;CN="Kyberg Vital":MAILTO:carolin.wagner@kyberg.de
END:VEVENT
END:VCALENDAR